Package: mina
Version: 1.15.0
Command: /Library/Frameworks/R.framework/Resources/bin/R CMD build --keep-empty-dirs --no-resave-data mina
StartedAt: 2025-02-19 17:21:06 -0500 (Wed, 19 Feb 2025)
EndedAt: 2025-02-19 17:24:23 -0500 (Wed, 19 Feb 2025)
EllapsedTime: 197.5 seconds
RetCode: 0
Status: OK
PackageFile: mina_1.15.0.tar.gz
PackageFileSize: 4.018 <A href="http://en.wikipedia.org/wiki/MiB" target="_blank">MiB</A>