Package: mina
Version: 1.15.0
Command: rm -rf mina.buildbin-libdir && mkdir mina.buildbin-libdir && /Users/biocbuild/BBS/utils/build-universal.sh mina_1.15.0.tar.gz /Library/Frameworks/R.framework/Resources/bin/R mina.buildbin-libdir
StartedAt: 2025-02-20 00:41:23 -0500 (Thu, 20 Feb 2025)
EndedAt: 2025-02-20 00:42:05 -0500 (Thu, 20 Feb 2025)
EllapsedTime: 41.7 seconds
RetCode: 0
Status: OK
PackageFile: mina_1.15.0.tgz
PackageFileSize: 7.849 <A href="http://en.wikipedia.org/wiki/MiB" target="_blank">MiB</A>