Package: miloR
Version: 2.3.0
Maintainer: Mike Morgan
MaintainerEmail: michael.morgan at abdn.ac.uk
git_url: https://git.bioconductor.org/packages/miloR
git_branch: devel
git_last_commit: 959804d
git_last_commit_date: 2024-10-29 10:59:29 -0500 (Tue, 29 Oct 2024)