Package: mia Version: 1.15.20 Command: E:\biocbuild\bbs-3.21-bioc\R\bin\R.exe CMD check --no-multiarch --install=check:mia.install-out.txt --library=E:\biocbuild\bbs-3.21-bioc\R\library --no-vignettes --timings mia_1.15.20.tar.gz StartedAt: 2025-02-17 02:43:54 -0500 (Mon, 17 Feb 2025) EndedAt: 2025-02-17 03:23:54 -0500 (Mon, 17 Feb 2025) EllapsedTime: 2400.7 seconds RetCode: None Status: TIMEOUT CheckDir: mia.Rcheck Warnings: NA