Package: mia Version: 1.15.20 Command: rm -rf mia.buildbin-libdir && mkdir mia.buildbin-libdir && E:\biocbuild\bbs-3.21-bioc\R\bin\R.exe CMD INSTALL --build --library=mia.buildbin-libdir mia_1.15.20.tar.gz StartedAt: 2025-02-05 08:20:17 -0500 (Wed, 05 Feb 2025) EndedAt: 2025-02-05 08:22:37 -0500 (Wed, 05 Feb 2025) EllapsedTime: 139.2 seconds RetCode: 0 Status: OK PackageFile: mia_1.15.20.zip PackageFileSize: 3.597 MiB