Package: mia Version: 1.15.20 Command: /home/biocbuild/bbs-3.21-bioc/R/bin/R CMD INSTALL mia StartedAt: 2025-02-19 15:53:32 -0500 (Wed, 19 Feb 2025) EndedAt: 2025-02-19 15:54:18 -0500 (Wed, 19 Feb 2025) EllapsedTime: 45.7 seconds RetCode: 0 Status: OK