Package: mia Version: 1.15.20 Command: /home/biocbuild/bbs-3.21-bioc/R/bin/R CMD check --install=check:mia.install-out.txt --library=/home/biocbuild/bbs-3.21-bioc/R/site-library --timings mia_1.15.20.tar.gz StartedAt: 2025-02-20 00:00:22 -0500 (Thu, 20 Feb 2025) EndedAt: 2025-02-20 00:36:45 -0500 (Thu, 20 Feb 2025) EllapsedTime: 2183.0 seconds RetCode: 0 Status: OK CheckDir: mia.Rcheck Warnings: 0