Package: mia
Version: 1.15.20
Command: /home/biocbuild/bbs-3.21-bioc/R/bin/R CMD build --keep-empty-dirs --no-resave-data mia
StartedAt: 2025-02-19 18:04:57 -0500 (Wed, 19 Feb 2025)
EndedAt: 2025-02-19 18:06:29 -0500 (Wed, 19 Feb 2025)
EllapsedTime: 92.1 seconds
RetCode: 0
Status: OK
PackageFile: mia_1.15.20.tar.gz
PackageFileSize: 2.993 <A href="http://en.wikipedia.org/wiki/MiB" target="_blank">MiB</A>