Package: mia Version: 1.15.20 Command: /Library/Frameworks/R.framework/Resources/bin/R CMD check --install=check:mia.install-out.txt --library=/Library/Frameworks/R.framework/Resources/library --no-vignettes --timings mia_1.15.20.tar.gz StartedAt: 2025-02-04 21:37:46 -0500 (Tue, 04 Feb 2025) EndedAt: 2025-02-04 22:17:47 -0500 (Tue, 04 Feb 2025) EllapsedTime: 2400.5 seconds RetCode: None Status: TIMEOUT CheckDir: mia.Rcheck Warnings: NA