Package: mia Version: 1.15.20 Command: /Library/Frameworks/R.framework/Resources/bin/R CMD build --keep-empty-dirs --no-resave-data mia StartedAt: 2025-02-04 17:21:28 -0500 (Tue, 04 Feb 2025) EndedAt: 2025-02-04 17:23:23 -0500 (Tue, 04 Feb 2025) EllapsedTime: 115.6 seconds RetCode: 0 Status: OK PackageFile: mia_1.15.20.tar.gz PackageFileSize: 2.993 MiB