Package: mia Version: 1.15.20 Command: /home/biocbuild/R/R/bin/R CMD build --keep-empty-dirs --no-resave-data mia StartedAt: 2025-01-29 00:18:46 -0000 (Wed, 29 Jan 2025) EndedAt: 2025-01-29 00:20:53 -0000 (Wed, 29 Jan 2025) EllapsedTime: 127.0 seconds RetCode: 0 Status: OK PackageFile: mia_1.15.20.tar.gz PackageFileSize: 3.059 MiB