Package: methylumi Version: 2.53.0 Command: E:\biocbuild\bbs-3.21-bioc\R\bin\R.exe CMD check --no-multiarch --install=check:methylumi.install-out.txt --library=E:\biocbuild\bbs-3.21-bioc\R\library --no-vignettes --timings methylumi_2.53.0.tar.gz StartedAt: 2025-02-01 02:31:30 -0500 (Sat, 01 Feb 2025) EndedAt: 2025-02-01 02:38:01 -0500 (Sat, 01 Feb 2025) EllapsedTime: 391.4 seconds RetCode: 0 Status: OK CheckDir: methylumi.Rcheck Warnings: 0