Package: methylumi Version: 2.53.0 Command: chmod a+r methylumi -R && E:\biocbuild\bbs-3.21-bioc\R\bin\R.exe CMD build --keep-empty-dirs --no-resave-data methylumi StartedAt: 2025-01-31 19:41:28 -0500 (Fri, 31 Jan 2025) EndedAt: 2025-01-31 19:46:35 -0500 (Fri, 31 Jan 2025) EllapsedTime: 306.3 seconds RetCode: 0 Status: OK PackageFile: methylumi_2.53.0.tar.gz PackageFileSize: 7.332 MiB