Package: methylumi Version: 2.53.0 Command: rm -rf methylumi.buildbin-libdir && mkdir methylumi.buildbin-libdir && E:\biocbuild\bbs-3.21-bioc\R\bin\R.exe CMD INSTALL --build --library=methylumi.buildbin-libdir methylumi_2.53.0.tar.gz StartedAt: 2025-02-01 07:37:38 -0500 (Sat, 01 Feb 2025) EndedAt: 2025-02-01 07:40:09 -0500 (Sat, 01 Feb 2025) EllapsedTime: 150.6 seconds RetCode: 0 Status: OK PackageFile: methylumi_2.53.0.zip PackageFileSize: 8.401 MiB