Package: methylumi Version: 2.53.0 Command: /Library/Frameworks/R.framework/Resources/bin/R CMD build --keep-empty-dirs --no-resave-data methylumi StartedAt: 2025-01-31 17:19:10 -0500 (Fri, 31 Jan 2025) EndedAt: 2025-01-31 17:23:01 -0500 (Fri, 31 Jan 2025) EllapsedTime: 231.8 seconds RetCode: 0 Status: OK PackageFile: methylumi_2.53.0.tar.gz PackageFileSize: 7.342 MiB