Package: methylumi Version: 2.53.0 Command: rm -rf methylumi.buildbin-libdir && mkdir methylumi.buildbin-libdir && /Users/biocbuild/BBS/utils/build-universal.sh methylumi_2.53.0.tar.gz /Library/Frameworks/R.framework/Resources/bin/R methylumi.buildbin-libdir StartedAt: 2025-02-01 00:25:49 -0500 (Sat, 01 Feb 2025) EndedAt: 2025-02-01 00:27:11 -0500 (Sat, 01 Feb 2025) EllapsedTime: 82.0 seconds RetCode: 0 Status: OK PackageFile: methylumi_2.53.0.tgz PackageFileSize: 8.41 MiB