Package: methylumi Version: 2.53.0 Command: /home/biocbuild/R/R/bin/R CMD build --keep-empty-dirs --no-resave-data methylumi StartedAt: 2025-01-29 00:16:44 -0000 (Wed, 29 Jan 2025) EndedAt: 2025-01-29 00:21:37 -0000 (Wed, 29 Jan 2025) EllapsedTime: 293.1 seconds RetCode: 0 Status: OK PackageFile: methylumi_2.53.0.tar.gz PackageFileSize: 7.483 MiB