Package: methylclock Version: 1.13.0 Command: /home/biocbuild/bbs-3.21-bioc/R/bin/R CMD INSTALL methylclock StartedAt: 2025-02-19 15:47:51 -0500 (Wed, 19 Feb 2025) EndedAt: 2025-02-19 15:49:04 -0500 (Wed, 19 Feb 2025) EllapsedTime: 72.6 seconds RetCode: 0 Status: OK