##############################################################################
##############################################################################
###
### Running command:
###
###   /home/biocbuild/bbs-3.21-bioc/R/bin/R CMD check --install=check:methylclock.install-out.txt --library=/home/biocbuild/bbs-3.21-bioc/R/site-library --timings methylclock_1.13.0.tar.gz
###
##############################################################################
##############################################################################


* using log directory ‘/home/biocbuild/bbs-3.21-bioc/meat/methylclock.Rcheck’
* using R Under development (unstable) (2025-01-20 r87609)
* using platform: x86_64-pc-linux-gnu
* R was compiled by
    gcc (Ubuntu 13.3.0-6ubuntu2~24.04) 13.3.0
    GNU Fortran (Ubuntu 13.3.0-6ubuntu2~24.04) 13.3.0
* running under: Ubuntu 24.04.2 LTS
* using session charset: UTF-8
* checking for file ‘methylclock/DESCRIPTION’ ... OK
* checking extension type ... Package
* this is package ‘methylclock’ version ‘1.13.0’
* package encoding: UTF-8
* checking package namespace information ... OK
* checking package dependencies ... OK
* checking if this is a source package ... OK
* checking if there is a namespace ... OK
* checking for hidden files and directories ... OK
* checking for portable file names ... OK
* checking for sufficient/correct file permissions ... OK
* checking whether package ‘methylclock’ can be installed ... OK
* used C++ compiler: ‘g++ (Ubuntu 13.3.0-6ubuntu2~24.04) 13.3.0’
* checking installed package size ... OK
* checking package directory ... OK
* checking ‘build’ directory ... OK
* checking DESCRIPTION meta-information ... NOTE
License stub is invalid DCF.
* checking top-level files ... OK
* checking for left-over files ... OK
* checking index information ... OK
* checking package subdirectories ... OK
* checking code files for non-ASCII characters ... OK
* checking R files for syntax errors ... OK
* checking whether the package can be loaded ... OK
* checking whether the package can be loaded with stated dependencies ... OK
* checking whether the package can be unloaded cleanly ... OK
* checking whether the namespace can be loaded with stated dependencies ... OK
* checking whether the namespace can be unloaded cleanly ... OK
* checking loading without being on the library search path ... OK
* checking dependencies in R code ... NOTE
Namespace in Imports field not imported from: ‘planet’
  All declared Imports should be used.
Unexported object imported by a ':::' call: ‘minfi:::projectCellType’
  See the note in ?`:::` about the use of this operator.
* checking S3 generic/method consistency ... OK
* checking replacement functions ... OK
* checking foreign function calls ... OK
* checking R code for possible problems ... NOTE
DNAmAge: no visible binding for global variable ‘coefHorvath’
DNAmAge: no visible binding for global variable ‘coefHannum’
DNAmAge: no visible binding for global variable ‘coefLevine’
DNAmAge: no visible binding for global variable ‘coefSkin’
DNAmAge: no visible binding for global variable ‘coefPedBE’
DNAmAge: no visible binding for global variable ‘coefWu’
DNAmAge: no visible binding for global variable ‘coefTL’
DNAmAge: no visible binding for global variable ‘coefBLUP’
DNAmAge: no visible binding for global variable ‘coefEN’
DNAmGA: no visible binding for global variable ‘coefKnightGA’
DNAmGA: no visible binding for global variable ‘coefBohlin’
DNAmGA: no visible binding for global variable ‘coefMayneGA’
DNAmGA: no visible binding for global variable ‘coefLeeGA’
DNAmGA: no visible binding for global variable ‘coefEPIC’
DNAmGA: no visible global function definition for
  ‘meffil.estimate.cell.counts.from.betas’
DNAmGA: no visible global function definition for ‘install.packages’
DNAmGA: no visible global function definition for ‘data’
DNAmGA: no visible binding for global variable ‘plCellCpGsThird’
checkClocks: no visible binding for global variable ‘MethylationData’
checkClocks: no visible binding for global variable ‘coefHorvath’
checkClocks: no visible binding for global variable ‘coefHannum’
checkClocks: no visible binding for global variable ‘coefLevine’
checkClocks: no visible binding for global variable ‘coefSkin’
checkClocks: no visible binding for global variable ‘coefPedBE’
checkClocks: no visible binding for global variable ‘coefWu’
checkClocks: no visible binding for global variable ‘coefTL’
checkClocks: no visible binding for global variable ‘coefBLUP’
checkClocks: no visible binding for global variable ‘coefEN’
checkClocksGA: no visible binding for global variable ‘coefKnightGA’
checkClocksGA: no visible binding for global variable ‘coefBohlin’
checkClocksGA: no visible binding for global variable ‘coefMayneGA’
checkClocksGA: no visible binding for global variable ‘coefLeeGA’
checkClocksGA: no visible binding for global variable ‘coefEPIC’
cpgs_imputation: no visible binding for global variable ‘cpgs.in’
plotCorClocks: no visible binding for global variable ‘method’
plotCorClocks: no visible binding for global variable ‘clock’
plotCorClocks: no visible binding for global variable ‘age’
plotCorClocks: no visible binding for global variable ‘..rr.label..’
plotCorClocks: no visible binding for global variable ‘..p.label..’
plotDNAmAge: no visible binding for global variable ‘..eq.label..’
plotDNAmAge: no visible binding for global variable ‘..rr.label..’
Undefined global functions or variables:
  ..eq.label.. ..p.label.. ..rr.label.. MethylationData age clock
  coefBLUP coefBohlin coefEN coefEPIC coefHannum coefHorvath
  coefKnightGA coefLeeGA coefLevine coefMayneGA coefPedBE coefSkin
  coefTL coefWu cpgs.in data install.packages
  meffil.estimate.cell.counts.from.betas method plCellCpGsThird
Consider adding
  importFrom("utils", "data", "install.packages")
to your NAMESPACE file.
* checking Rd files ... OK
* checking Rd metadata ... OK
* checking Rd cross-references ... OK
* checking for missing documentation entries ... OK
* checking for code/documentation mismatches ... OK
* checking Rd \usage sections ... OK
* checking Rd contents ... OK
* checking for unstated dependencies in examples ... OK
* checking contents of ‘data’ directory ... OK
* checking data for non-ASCII characters ... OK
* checking data for ASCII and uncompressed saves ... OK
* checking line endings in C/C++/Fortran sources/headers ... OK
* checking compiled code ... NOTE
Note: information on .o files is not available
* checking files in ‘vignettes’ ... OK
* checking examples ... OK
Examples with CPU (user + system) or elapsed time > 5s
                                    user system elapsed
commonClockCpgs                   47.320  1.982  52.839
load_DNAmGA_Clocks_data           37.895  1.306  41.341
load_DNAm_Clocks_data             33.410  1.022  36.700
plotDNAmAge                       30.443  1.825  36.382
DNAmAge                           25.477  4.500  32.323
checkClocks                       25.049  2.393  29.732
DNAmGA                            15.074  1.048  17.560
checkClocksGA                     13.834  0.806  16.075
getCellTypeReference               6.855  2.519   9.606
meffilEstimateCellCountsFromBetas  8.188  0.377   9.002
meffilListCellTypeReferences       5.093  0.339   5.659
* checking for unstated dependencies in vignettes ... OK
* checking package vignettes ... OK
* checking re-building of vignette outputs ... OK
* checking PDF version of manual ... OK
* DONE

Status: 4 NOTEs
See
  ‘/home/biocbuild/bbs-3.21-bioc/meat/methylclock.Rcheck/00check.log’
for details.