Package: methylclock
Version: 1.13.0
Command: /home/biocbuild/bbs-3.21-bioc/R/bin/R CMD build --keep-empty-dirs --no-resave-data methylclock
StartedAt: 2025-02-19 18:01:36 -0500 (Wed, 19 Feb 2025)
EndedAt: 2025-02-19 18:11:13 -0500 (Wed, 19 Feb 2025)
EllapsedTime: 577.6 seconds
RetCode: 0
Status: OK
PackageFile: methylclock_1.13.0.tar.gz
PackageFileSize: 1.118 <A href="http://en.wikipedia.org/wiki/MiB" target="_blank">MiB</A>