Package: methylSig
Version: 1.19.0
Maintainer: Raymond G. Cavalcante
MaintainerEmail: rcavalca at umich.edu
git_url: https://git.bioconductor.org/packages/methylSig
git_branch: devel
git_last_commit: 3088278
git_last_commit_date: 2024-10-29 10:46:13 -0500 (Tue, 29 Oct 2024)