Package: metaseqR2
Version: 1.19.0
Command: E:\biocbuild\bbs-3.21-bioc\R\bin\R.exe CMD INSTALL metaseqR2
StartedAt: 2025-02-19 17:00:39 -0500 (Wed, 19 Feb 2025)
EndedAt: 2025-02-19 17:02:50 -0500 (Wed, 19 Feb 2025)
EllapsedTime: 130.5 seconds
RetCode: 0
Status: OK