##############################################################################
##############################################################################
###
### Running command:
###
###   E:\biocbuild\bbs-3.21-bioc\R\bin\R.exe CMD INSTALL metaseqR2
###
##############################################################################
##############################################################################


* installing to library 'E:/biocbuild/bbs-3.21-bioc/R/library'
* installing *source* package 'metaseqR2' ...
** this is package 'metaseqR2' version '1.19.0'
** using staged installation
** libs
using C compiler: 'gcc.exe (GCC) 13.3.0'
gcc  -I"E:/biocbuild/bbs-3.21-bioc/R/include" -DNDEBUG     -I"C:/rtools44/x86_64-w64-mingw32.static.posix/include"      -O2 -Wall  -mfpmath=sse -msse2 -mstackrealign   -c pval.c -o pval.o
pval.c: In function 'add_from_both_sides':
pval.c:26:11: warning: unused variable 'esttotalperlength' [-Wunused-variable]
   26 |    double esttotalperlength = total/2;
      |           ^~~~~~~~~~~~~~~~~
gcc -shared -s -static-libgcc -o metaseqR2.dll tmp.def pval.o -LC:/rtools44/x86_64-w64-mingw32.static.posix/lib/x64 -LC:/rtools44/x86_64-w64-mingw32.static.posix/lib -LE:/biocbuild/bbs-3.21-bioc/R/bin/x64 -lR
installing to E:/biocbuild/bbs-3.21-bioc/R/library/00LOCK-metaseqR2/00new/metaseqR2/libs/x64
** R
** data
** inst
** byte-compile and prepare package for lazy loading
** help
*** installing help indices
** building package indices
** installing vignettes
** testing if installed package can be loaded from temporary location
** testing if installed package can be loaded from final location
** testing if installed package keeps a record of temporary installation path
* DONE (metaseqR2)