Package: metaseqR2
Version: 1.19.0
Command: E:\biocbuild\bbs-3.21-bioc\R\bin\R.exe CMD check --no-multiarch --install=check:metaseqR2.install-out.txt --library=E:\biocbuild\bbs-3.21-bioc\R\library --no-vignettes --timings metaseqR2_1.19.0.tar.gz
StartedAt: 2025-02-20 02:48:21 -0500 (Thu, 20 Feb 2025)
EndedAt: 2025-02-20 02:58:34 -0500 (Thu, 20 Feb 2025)
EllapsedTime: 612.7 seconds
RetCode: 0
Status: OK
CheckDir: metaseqR2.Rcheck
Warnings: 0