Package: metaseqR2 Version: 1.19.0 Command: chmod a+r metaseqR2 -R && E:\biocbuild\bbs-3.21-bioc\R\bin\R.exe CMD build --keep-empty-dirs --no-resave-data metaseqR2 StartedAt: 2025-02-19 19:49:02 -0500 (Wed, 19 Feb 2025) EndedAt: 2025-02-19 19:57:30 -0500 (Wed, 19 Feb 2025) EllapsedTime: 508.4 seconds RetCode: 0 Status: OK PackageFile: metaseqR2_1.19.0.tar.gz PackageFileSize: 2.655 <A href="http://en.wikipedia.org/wiki/MiB" target="_blank">MiB</A>