Package: metaseqR2
Version: 1.19.0
Command: /Library/Frameworks/R.framework/Resources/bin/R CMD INSTALL metaseqR2
StartedAt: 2025-02-19 15:29:28 -0500 (Wed, 19 Feb 2025)
EndedAt: 2025-02-19 15:29:57 -0500 (Wed, 19 Feb 2025)
EllapsedTime: 28.9 seconds
RetCode: 0
Status: OK