Package: metaseqR2 Version: 1.19.0 Command: /Library/Frameworks/R.framework/Resources/bin/R CMD build --keep-empty-dirs --no-resave-data metaseqR2 StartedAt: 2025-02-19 16:52:53 -0500 (Wed, 19 Feb 2025) EndedAt: 2025-02-19 16:55:52 -0500 (Wed, 19 Feb 2025) EllapsedTime: 178.9 seconds RetCode: 1 Status: ERROR PackageFile: None PackageFileSize: NA