Package: metaseqR2 Version: 1.19.0 Maintainer: Panagiotis Moulos MaintainerEmail: moulos at fleming.gr git_url: https://git.bioconductor.org/packages/metaseqR2 git_branch: devel git_last_commit: 22e1b29 git_last_commit_date: 2024-10-29 10:46:48 -0500 (Tue, 29 Oct 2024)