Package: metapone Version: 1.13.0 Command: E:\biocbuild\bbs-3.21-bioc\R\bin\R.exe CMD INSTALL metapone StartedAt: 2025-02-19 16:29:35 -0500 (Wed, 19 Feb 2025) EndedAt: 2025-02-19 16:30:00 -0500 (Wed, 19 Feb 2025) EllapsedTime: 25.2 seconds RetCode: 0 Status: OK