Package: metapone Version: 1.13.0 Command: chmod a+r metapone -R && E:\biocbuild\bbs-3.21-bioc\R\bin\R.exe CMD build --keep-empty-dirs --no-resave-data metapone StartedAt: 2025-02-19 19:48:44 -0500 (Wed, 19 Feb 2025) EndedAt: 2025-02-19 20:05:49 -0500 (Wed, 19 Feb 2025) EllapsedTime: 1024.2 seconds RetCode: 0 Status: OK PackageFile: metapone_1.13.0.tar.gz PackageFileSize: 3.702 <A href="http://en.wikipedia.org/wiki/MiB" target="_blank">MiB</A>