Package: metapone
Version: 1.13.0
Command: /Library/Frameworks/R.framework/Resources/bin/R CMD INSTALL metapone
StartedAt: 2025-02-19 15:31:12 -0500 (Wed, 19 Feb 2025)
EndedAt: 2025-02-19 15:31:34 -0500 (Wed, 19 Feb 2025)
EllapsedTime: 21.6 seconds
RetCode: 0
Status: OK