Package: metapone
Version: 1.13.0
Command: /Library/Frameworks/R.framework/Resources/bin/R CMD check --install=check:metapone.install-out.txt --library=/Library/Frameworks/R.framework/Resources/library --no-vignettes --timings metapone_1.13.0.tar.gz
StartedAt: 2025-02-19 21:30:02 -0500 (Wed, 19 Feb 2025)
EndedAt: 2025-02-19 21:33:42 -0500 (Wed, 19 Feb 2025)
EllapsedTime: 219.6 seconds
RetCode: 0
Status: OK
CheckDir: metapone.Rcheck
Warnings: 0