Package: metapone Version: 1.13.0 Command: /Library/Frameworks/R.framework/Resources/bin/R CMD build --keep-empty-dirs --no-resave-data metapone StartedAt: 2025-02-19 17:16:25 -0500 (Wed, 19 Feb 2025) EndedAt: 2025-02-19 17:33:43 -0500 (Wed, 19 Feb 2025) EllapsedTime: 1038.4 seconds RetCode: 0 Status: OK PackageFile: metapone_1.13.0.tar.gz PackageFileSize: 3.746 <A href="http://en.wikipedia.org/wiki/MiB" target="_blank">MiB</A>