Package: metapone Version: 1.13.0 Command: rm -rf metapone.buildbin-libdir && mkdir metapone.buildbin-libdir && /Users/biocbuild/BBS/utils/build-universal.sh metapone_1.13.0.tar.gz /Library/Frameworks/R.framework/Resources/bin/R metapone.buildbin-libdir StartedAt: 2025-02-20 00:40:26 -0500 (Thu, 20 Feb 2025) EndedAt: 2025-02-20 00:40:42 -0500 (Thu, 20 Feb 2025) EllapsedTime: 15.2 seconds RetCode: 0 Status: OK PackageFile: metapone_1.13.0.tgz PackageFileSize: 3.793 <A href="http://en.wikipedia.org/wiki/MiB" target="_blank">MiB</A>