Package: metapone
Version: 1.13.0
Command: /home/biocbuild/R/R/bin/R CMD INSTALL metapone
StartedAt: 2025-01-29 20:16:33 -0000 (Wed, 29 Jan 2025)
EndedAt: 2025-01-29 20:16:54 -0000 (Wed, 29 Jan 2025)
EllapsedTime: 21.0 seconds
RetCode: 0
Status: OK