Package: metapone
Version: 1.13.0
Command: /home/biocbuild/R/R/bin/R CMD build --keep-empty-dirs --no-resave-data metapone
StartedAt: 2025-01-29 00:09:48 -0000 (Wed, 29 Jan 2025)
EndedAt: 2025-01-29 00:49:48 -0000 (Wed, 29 Jan 2025)
EllapsedTime: 2400.0 seconds
RetCode: None
Status: TIMEOUT
PackageFile: None
PackageFileSize: NA