Package: metaSeq Version: 1.47.0 Command: /home/biocbuild/bbs-3.21-bioc/R/bin/R CMD check --install=check:metaSeq.install-out.txt --library=/home/biocbuild/bbs-3.21-bioc/R/site-library --timings metaSeq_1.47.0.tar.gz StartedAt: 2025-02-04 23:58:07 -0500 (Tue, 04 Feb 2025) EndedAt: 2025-02-05 00:02:49 -0500 (Wed, 05 Feb 2025) EllapsedTime: 282.2 seconds RetCode: 0 Status: OK CheckDir: metaSeq.Rcheck Warnings: 0