Package: metaSeq Version: 1.47.0 Command: rm -rf metaSeq.buildbin-libdir && mkdir metaSeq.buildbin-libdir && /Users/biocbuild/BBS/utils/build-universal.sh metaSeq_1.47.0.tar.gz /Library/Frameworks/R.framework/Resources/bin/R metaSeq.buildbin-libdir StartedAt: 2025-02-05 00:48:07 -0500 (Wed, 05 Feb 2025) EndedAt: 2025-02-05 00:48:19 -0500 (Wed, 05 Feb 2025) EllapsedTime: 11.7 seconds RetCode: 0 Status: OK PackageFile: metaSeq_1.47.0.tgz PackageFileSize: 6.179 MiB