Package: metaCCA
Version: 1.35.0
Command: E:\biocbuild\bbs-3.21-bioc\R\bin\R.exe CMD check --no-multiarch --install=check:metaCCA.install-out.txt --library=E:\biocbuild\bbs-3.21-bioc\R\library --no-vignettes --timings metaCCA_1.35.0.tar.gz
StartedAt: 2025-02-20 02:46:23 -0500 (Thu, 20 Feb 2025)
EndedAt: 2025-02-20 02:46:54 -0500 (Thu, 20 Feb 2025)
EllapsedTime: 30.9 seconds
RetCode: 0
Status: WARNINGS
CheckDir: metaCCA.Rcheck
Warnings: 1