Package: metaCCA Version: 1.35.0 Command: chmod a+r metaCCA -R && E:\biocbuild\bbs-3.21-bioc\R\bin\R.exe CMD build --keep-empty-dirs --no-resave-data metaCCA StartedAt: 2025-02-19 19:47:47 -0500 (Wed, 19 Feb 2025) EndedAt: 2025-02-19 19:48:07 -0500 (Wed, 19 Feb 2025) EllapsedTime: 19.8 seconds RetCode: 0 Status: OK PackageFile: metaCCA_1.35.0.tar.gz PackageFileSize: 926.7 <A href="http://en.wikipedia.org/wiki/KiB" target="_blank">KiB</A>