Package: metaCCA Version: 1.35.0 Command: /home/biocbuild/R/R/bin/R CMD INSTALL metaCCA StartedAt: 2025-01-29 20:14:55 -0000 (Wed, 29 Jan 2025) EndedAt: 2025-01-29 20:14:58 -0000 (Wed, 29 Jan 2025) EllapsedTime: 2.9 seconds RetCode: 0 Status: OK