Package: metaCCA Version: 1.35.0 Command: /home/biocbuild/R/R/bin/R CMD build --keep-empty-dirs --no-resave-data metaCCA StartedAt: 2025-01-29 00:08:37 -0000 (Wed, 29 Jan 2025) EndedAt: 2025-01-29 00:08:46 -0000 (Wed, 29 Jan 2025) EllapsedTime: 9.0 seconds RetCode: 0 Status: OK PackageFile: metaCCA_1.35.0.tar.gz PackageFileSize: 915.9 KiB