Package: metaCCA Version: 1.35.0 Command: /Library/Frameworks/R.framework/Resources/bin/R CMD check --install=check:metaCCA.install-out.txt --library=/Library/Frameworks/R.framework/Resources/library --no-vignettes --timings metaCCA_1.35.0.tar.gz StartedAt: 2025-02-19 20:06:52 -0500 (Wed, 19 Feb 2025) EndedAt: 2025-02-19 20:07:03 -0500 (Wed, 19 Feb 2025) EllapsedTime: 11.1 seconds RetCode: 0 Status: WARNINGS CheckDir: metaCCA.Rcheck Warnings: 1