##############################################################################
##############################################################################
###
### Running command:
###
###   rm -rf metaCCA.buildbin-libdir && mkdir metaCCA.buildbin-libdir && /Users/biocbuild/BBS/utils/build-universal.sh metaCCA_1.35.0.tar.gz /Library/Frameworks/R.framework/Resources/bin/R metaCCA.buildbin-libdir
###
##############################################################################
##############################################################################


>>>>>>> 
>>>>>>> INSTALLATION WITH 'R CMD INSTALL --preclean --no-multiarch --library=metaCCA.buildbin-libdir metaCCA_1.35.0.tar.gz'
>>>>>>> 

* installing *source* package ‘metaCCA’ ...
** this is package ‘metaCCA’ version ‘1.35.0’
** using staged installation
** R
** data
*** moving datasets to lazyload DB
** inst
** byte-compile and prepare package for lazy loading
** help
*** installing help indices
** building package indices
** installing vignettes
** testing if installed package can be loaded from temporary location
** testing if installed package can be loaded from final location
** testing if installed package keeps a record of temporary installation path
* DONE (metaCCA)