Package: mdqc
Version: 1.69.0
Command: E:\biocbuild\bbs-3.21-bioc\R\bin\R.exe CMD INSTALL mdqc
StartedAt: 2025-02-19 15:20:10 -0500 (Wed, 19 Feb 2025)
EndedAt: 2025-02-19 15:20:17 -0500 (Wed, 19 Feb 2025)
EllapsedTime: 7.1 seconds
RetCode: 0
Status: OK