Package: mdqc
Version: 1.69.0
Command: E:\biocbuild\bbs-3.21-bioc\R\bin\R.exe CMD check --no-multiarch --install=check:mdqc.install-out.txt --library=E:\biocbuild\bbs-3.21-bioc\R\library --no-vignettes --timings mdqc_1.69.0.tar.gz
StartedAt: 2025-02-20 02:41:13 -0500 (Thu, 20 Feb 2025)
EndedAt: 2025-02-20 02:41:44 -0500 (Thu, 20 Feb 2025)
EllapsedTime: 31.0 seconds
RetCode: 0
Status: OK
CheckDir: mdqc.Rcheck
Warnings: 0