Package: mdqc
Version: 1.69.0
Command: chmod a+r mdqc -R && E:\biocbuild\bbs-3.21-bioc\R\bin\R.exe CMD build --keep-empty-dirs --no-resave-data mdqc
StartedAt: 2025-02-19 19:45:10 -0500 (Wed, 19 Feb 2025)
EndedAt: 2025-02-19 19:45:25 -0500 (Wed, 19 Feb 2025)
EllapsedTime: 14.9 seconds
RetCode: 0
Status: OK
PackageFile: mdqc_1.69.0.tar.gz
PackageFileSize: 143.4 <A href="http://en.wikipedia.org/wiki/KiB" target="_blank">KiB</A>