Package: mdqc
Version: 1.69.0
Command: rm -rf mdqc.buildbin-libdir && mkdir mdqc.buildbin-libdir && E:\biocbuild\bbs-3.21-bioc\R\bin\R.exe CMD INSTALL --build --library=mdqc.buildbin-libdir mdqc_1.69.0.tar.gz
StartedAt: 2025-02-20 08:07:14 -0500 (Thu, 20 Feb 2025)
EndedAt: 2025-02-20 08:07:20 -0500 (Thu, 20 Feb 2025)
EllapsedTime: 6.8 seconds
RetCode: 0
Status: OK
PackageFile: mdqc_1.69.0.zip
PackageFileSize: 184.1 <A href="http://en.wikipedia.org/wiki/KiB" target="_blank">KiB</A>