Package: mdqc
Version: 1.69.0
Command: /Library/Frameworks/R.framework/Resources/bin/R CMD INSTALL mdqc
StartedAt: 2025-02-19 15:01:13 -0500 (Wed, 19 Feb 2025)
EndedAt: 2025-02-19 15:01:16 -0500 (Wed, 19 Feb 2025)
EllapsedTime: 3.2 seconds
RetCode: 0
Status: OK