Package: mdqc
Version: 1.69.0
Command: /Library/Frameworks/R.framework/Resources/bin/R CMD check --install=check:mdqc.install-out.txt --library=/Library/Frameworks/R.framework/Resources/library --no-vignettes --timings mdqc_1.69.0.tar.gz
StartedAt: 2025-02-19 20:04:35 -0500 (Wed, 19 Feb 2025)
EndedAt: 2025-02-19 20:04:46 -0500 (Wed, 19 Feb 2025)
EllapsedTime: 11.1 seconds
RetCode: 0
Status: OK
CheckDir: mdqc.Rcheck
Warnings: 0